BEGIN:VCALENDAR
VERSION:2.0
PRODID:-//wp-events-plugin.com//7.2.3.1//EN
TZID:Europe/Paris
X-WR-TIMEZONE:Europe/Paris
BEGIN:VEVENT
UID:2@shakti-bhakti.org
DTSTART;TZID=Europe/Paris:20240107T173000
DTEND;TZID=Europe/Paris:20240107T193000
DTSTAMP:20231221T135746Z
URL:https://shakti-bhakti.org/events/bain-de-gongs-voyage-sonore-%e2%99%a1
 -celebrons-2024-%e2%99%a1/
SUMMARY:Bain de gongs & Voyage Sonore  *♡* Célébrons 2024 *♡*
DESCRIPTION:*♡*  Bienvenue en 2024  *♡*\nCélébrons cette nouvelle a
 nnée qui s'ouvre à nous. Faisons vibrer toutes nos cellules et accueillo
 ns les énergies du renouveau.\nAvec nos multiples instruments intuitifs e
 t nos 6 gongs planétaires et symphonique\, nous vous proposons une expér
 ience immersive dans le son\, la vibration \; une expérience propice à l
 a réceptivité\, à la relaxation profonde\, à la connexion à Soi et à
  l’ancrage.\nTout est vibration dans l’Univers\nAllongé confortableme
 nt sous votre plaid\, vous recevrez ces vibrations cosmiques et bienfaisan
 tes pour le corps\, l’Âme et l’esprit.\n*♡*♡*♡*♡*♡*\nMyriam
  est artiste dans l’âme\, musicienne depuis son plus jeune âge. Elle s
 ’épanouit dans la pratique de la batterie\, des percussions\, des instr
 uments intuitifs et dans le chant de mantra\, de gospel\, de chants médec
 ines et de musiques du monde.\nRachel Balpreet Kaur est enseignante de kun
 dalini yoga depuis plus de 10 ans. Elle est passionnée par cet instrument
  incroyable qu’est le gong. Elle propose des bains de gongs depuis plusi
 eurs années et forme aussi à l’art de jouer de cet instrument.\n*♡*
 ♡*♡*♡*♡*\nLieu : Salle Alma\, 7 Rue Mazard\, 69 002 Lyon\nDate et 
 heure : Dimanche 7 janvier 2024 de 17h30 à 19h30 / accueil à partir de 1
 7h15\nRéservation nécessaire : Rachel Balpreet Kaur 06 82 32 46 88 / Myr
 iam 06 23 11 19 32\nVenez en tenue souple et confortable\nLa température 
 du corps diminuant en état de relaxation profonde\, nous vous conseillons
  d’apporter un plaid ou une petite couverture pour vous couvrir.\n*♡*
 ♡*♡*♡*♡*\nAvec la joie de vos présences\,\nDe tout coeur\nMyriam 
 &amp\; Rachel Balpreet Kaur
CATEGORIES:Gong
END:VEVENT
BEGIN:VTIMEZONE
TZID:Europe/Paris
X-LIC-LOCATION:Europe/Paris
BEGIN:STANDARD
DTSTART:20231029T020000
TZOFFSETFROM:+0200
TZOFFSETTO:+0100
TZNAME:CET
END:STANDARD
END:VTIMEZONE
END:VCALENDAR